BEGIN:VCALENDAR
CALSCALE:GREGORIAN
X-WR-TIMEZONE;VALUE=TEXT:GMT
PRODID:PEAK Corporation - piCal -
X-WR-CALNAME;VALUE=TEXT:Q!!Maru_2007_8時間耐久レース
VERSION:2.0
METHOD:PUBLISH
BEGIN:VTIMEZONE
TZID:GMT
BEGIN:STANDARD
DTSTART:19390101T000000
TZOFFSETFROM:+0000
TZOFFSETTO:+0000
TZNAME:GMT
END:STANDARD
END:VTIMEZONE
BEGIN:VEVENT
DTSTART;VALUE=DATE:20071028
DTEND;VALUE=DATE:20071029
LOCATION:SUGOマルチコース
TRANSP:OPAQUE
SEQUENCE:0
UID:pical060-993c9c0d4f10e8b44f06a13d87653481
DTSTAMP:20071025T164815Z
CATEGORIES:
DESCRIPTION:Q!!Maru_2007_8時間耐久レース \n
SUMMARY:Q!!Maru_2007_8時間耐久レース
PRIORITY:0
CLASS:PUBLIC
END:VEVENT
END:VCALENDAR
